BEGIN:VCALENDAR
VERSION:2.0
PRODID:-//Northern Business Associates - ECPv6.15.20//NONSGML v1.0//EN
CALSCALE:GREGORIAN
METHOD:PUBLISH
X-WR-CALNAME:Northern Business Associates
X-ORIGINAL-URL:https://www.reddingnba.com
X-WR-CALDESC:Events for Northern Business Associates
REFRESH-INTERVAL;VALUE=DURATION:PT1H
X-Robots-Tag:noindex
X-PUBLISHED-TTL:PT1H
BEGIN:VTIMEZONE
TZID:America/Los_Angeles
BEGIN:DAYLIGHT
TZOFFSETFROM:-0800
TZOFFSETTO:-0700
TZNAME:PDT
DTSTART:20250309T100000
END:DAYLIGHT
BEGIN:STANDARD
TZOFFSETFROM:-0700
TZOFFSETTO:-0800
TZNAME:PST
DTSTART:20251102T090000
END:STANDARD
BEGIN:DAYLIGHT
TZOFFSETFROM:-0800
TZOFFSETTO:-0700
TZNAME:PDT
DTSTART:20260308T100000
END:DAYLIGHT
BEGIN:STANDARD
TZOFFSETFROM:-0700
TZOFFSETTO:-0800
TZNAME:PST
DTSTART:20261101T090000
END:STANDARD
BEGIN:DAYLIGHT
TZOFFSETFROM:-0800
TZOFFSETTO:-0700
TZNAME:PDT
DTSTART:20270314T100000
END:DAYLIGHT
BEGIN:STANDARD
TZOFFSETFROM:-0700
TZOFFSETTO:-0800
TZNAME:PST
DTSTART:20271107T090000
END:STANDARD
END:VTIMEZONE
BEGIN:VEVENT
DTSTART;TZID=America/Los_Angeles:20260609T120000
DTEND;TZID=America/Los_Angeles:20260609T130000
DTSTAMP:20260425T063418
CREATED:20260413T193136Z
LAST-MODIFIED:20260423T195525Z
UID:6279-1781006400-1781010000@www.reddingnba.com
SUMMARY:June 9 – NBA Noon Meeting
DESCRIPTION:Today we are looking forward to our guest speaker\, Randy Jensen the Director of “The Louie Foundation”!  Randy will be talking about their upcoming building of “The Louie House” for cancer patients both young and old in Shasta County and surrounding area! \nLuis Miramontes was a Professional Golf Pro at Gold Hills when cancer hit him and took his life.   Now Machelle Miramontes\, the widow and Randy Jensen are moving ahead with this venture of building a State-of-the-Art a house to provide housing for cancer patients and their loved ones while going through treatment!  Be sure to invite your friends and business associates who may be interested in this presentation.
URL:https://www.reddingnba.com/event/june-9-nba-noon-meeting/
LOCATION:Country Waffle\, 2300 Athens Ave\, Redding\, CA\, 96001
CATEGORIES:Weekly NBA Meeting
END:VEVENT
END:VCALENDAR